BEGIN:VCALENDAR
VERSION:2.0
PRODID:-//Drohnenblick Volkmar Miehling - ECPv6.15.20//NONSGML v1.0//EN
CALSCALE:GREGORIAN
METHOD:PUBLISH
X-WR-CALNAME:Drohnenblick Volkmar Miehling
X-ORIGINAL-URL:https://volkmarsdrohnenblick.de
X-WR-CALDESC:Veranstaltungen für Drohnenblick Volkmar Miehling
REFRESH-INTERVAL;VALUE=DURATION:PT1H
X-Robots-Tag:noindex
X-PUBLISHED-TTL:PT1H
BEGIN:VTIMEZONE
TZID:Europe/Helsinki
BEGIN:DAYLIGHT
TZOFFSETFROM:+0200
TZOFFSETTO:+0300
TZNAME:EEST
DTSTART:20220327T010000
END:DAYLIGHT
BEGIN:STANDARD
TZOFFSETFROM:+0300
TZOFFSETTO:+0200
TZNAME:EET
DTSTART:20221030T010000
END:STANDARD
BEGIN:DAYLIGHT
TZOFFSETFROM:+0200
TZOFFSETTO:+0300
TZNAME:EEST
DTSTART:20230326T010000
END:DAYLIGHT
BEGIN:STANDARD
TZOFFSETFROM:+0300
TZOFFSETTO:+0200
TZNAME:EET
DTSTART:20231029T010000
END:STANDARD
BEGIN:DAYLIGHT
TZOFFSETFROM:+0200
TZOFFSETTO:+0300
TZNAME:EEST
DTSTART:20240331T010000
END:DAYLIGHT
BEGIN:STANDARD
TZOFFSETFROM:+0300
TZOFFSETTO:+0200
TZNAME:EET
DTSTART:20241027T010000
END:STANDARD
BEGIN:DAYLIGHT
TZOFFSETFROM:+0200
TZOFFSETTO:+0300
TZNAME:EEST
DTSTART:20250330T010000
END:DAYLIGHT
BEGIN:STANDARD
TZOFFSETFROM:+0300
TZOFFSETTO:+0200
TZNAME:EET
DTSTART:20251026T010000
END:STANDARD
END:VTIMEZONE
BEGIN:VEVENT
DTSTART;TZID=Europe/Helsinki:20240629T110000
DTEND;TZID=Europe/Helsinki:20240629T160000
DTSTAMP:20260421T111058
CREATED:20231026T171733Z
LAST-MODIFIED:20231026T171733Z
UID:1576-1719658800-1719676800@volkmarsdrohnenblick.de
SUMMARY:Kirchliche Hochzeit
DESCRIPTION:Auf dem Gut Sulz. \nZusammen mit Paul. \nAufnahmen im Freien!
URL:https://volkmarsdrohnenblick.de/event/kirchliche-hochzeit/
LOCATION:Gut Sulz\, Gut Sulz 1\, Münster\, Bayern\, 86692
END:VEVENT
BEGIN:VEVENT
DTSTART;TZID=Europe/Helsinki:20240628T110000
DTEND;TZID=Europe/Helsinki:20240628T143000
DTSTAMP:20260421T111058
CREATED:20231026T170711Z
LAST-MODIFIED:20231026T171442Z
UID:1574-1719572400-1719585000@volkmarsdrohnenblick.de
SUMMARY:Standesamtliche Hochzeit
DESCRIPTION:Drohnenaufnahmen einer standesamtlichen Hochzeit. \nZusammen mit Paul. \nStandesamtliche Hochzeit findet auf Gut Sulz statt.
URL:https://volkmarsdrohnenblick.de/event/standesamtliche-hochzeit/
LOCATION:Gut Sulz\, Gut Sulz 1\, Münster\, Bayern\, 86692
CATEGORIES:Hochzeit
END:VEVENT
BEGIN:VEVENT
DTSTART;TZID=Europe/Helsinki:20240414T150000
DTEND;TZID=Europe/Helsinki:20240414T180000
DTSTAMP:20260421T111058
CREATED:20240413T132100Z
LAST-MODIFIED:20240413T132137Z
UID:2389-1713106800-1713117600@volkmarsdrohnenblick.de
SUMMARY:Immobilienaufnahme in Fischach
DESCRIPTION:Immobilienaufnahme für Vida Immobilien.
URL:https://volkmarsdrohnenblick.de/event/immobilienaufnahme-mit-der-drohne/
LOCATION:Fischach\, Poststraße 6\, Fischach\, Bayern\, 86850\, Deutschland
CATEGORIES:Immobilienmakler
END:VEVENT
BEGIN:VEVENT
DTSTART;TZID=Europe/Helsinki:20240406T090000
DTEND;TZID=Europe/Helsinki:20240406T110000
DTSTAMP:20260421T111058
CREATED:20240413T145401Z
LAST-MODIFIED:20240413T145401Z
UID:2393-1712394000-1712401200@volkmarsdrohnenblick.de
SUMMARY:Dachinspektion in Donauwörth
DESCRIPTION:Dachinspektion am Gebäude der Stadtresidenz
URL:https://volkmarsdrohnenblick.de/event/dachinspektion-in-donauwoerth/
LOCATION:Donauwörth\, Berger Vorstadt 33a\, Donauwörth\, Bayern\, 86609\, Deutschland
CATEGORIES:Privat
END:VEVENT
BEGIN:VEVENT
DTSTART;TZID=Europe/Helsinki:20240318T120000
DTEND;TZID=Europe/Helsinki:20240318T170000
DTSTAMP:20260421T111058
CREATED:20240317T175520Z
LAST-MODIFIED:20240317T175858Z
UID:2329-1710763200-1710781200@volkmarsdrohnenblick.de
SUMMARY:Maklerauftrag: Gebäudeaufnahme in Neusäß
DESCRIPTION:Maklerauftrag: Gebäudeaufnahme in Neusäß
URL:https://volkmarsdrohnenblick.de/event/drohnenaufnahme-fuer-remax-immobilien/
LOCATION:Kömnigsberger Straße 11\, 86356 Neusäß\, Königsberger Straße 11\, Neusäß\, Bayern\, 86356\, Deutschland
CATEGORIES:Immobilienmakler
END:VEVENT
BEGIN:VEVENT
DTSTART;TZID=Europe/Helsinki:20240226T090000
DTEND;TZID=Europe/Helsinki:20240226T180000
DTSTAMP:20260421T111058
CREATED:20240209T150620Z
LAST-MODIFIED:20240209T151353Z
UID:2219-1708938000-1708970400@volkmarsdrohnenblick.de
SUMMARY:Maklerauftrag: Gebäudeaufnahme in Pösing
DESCRIPTION:Gebäudeaufnahme für Remax: \nBei Familie Recking \nHartwiese 7 \n93483 Pösing
URL:https://volkmarsdrohnenblick.de/event/maklerauftrag-gebaeudeaufnahme-in-poesing/
LOCATION:Pösing\, Hartwiese 7\, Pösing\, 93483\, Deutschland
CATEGORIES:Immobilienmakler
END:VEVENT
BEGIN:VEVENT
DTSTART;TZID=Europe/Helsinki:20231205T170000
DTEND;TZID=Europe/Helsinki:20231205T193000
DTSTAMP:20260421T111058
CREATED:20231115T171518Z
LAST-MODIFIED:20231115T171518Z
UID:1811-1701795600-1701804600@volkmarsdrohnenblick.de
SUMMARY:Nachtaufnahmen Weihnachtsmarkt bei Manu
DESCRIPTION:Test von Nachtaufnahmen mit der DJI Mini 4 Pro auf Manus privatem Weihnachtsmarkt
URL:https://volkmarsdrohnenblick.de/event/nachtaufnahmen-weihnachtsmarkt-bei-manu/
LOCATION:Weihnachtsmarkt bei Manu\, Ringstraße 9\, Tapfheim\, Bayern\, 86660\, Deutschland
END:VEVENT
END:VCALENDAR